BEGIN:VCALENDAR
VERSION:2.0
PRODID:-//Stand N Stride Foundation - ECPv6.15.11//NONSGML v1.0//EN
CALSCALE:GREGORIAN
METHOD:PUBLISH
X-WR-CALNAME:Stand N Stride Foundation
X-ORIGINAL-URL:https://standnstride.org
X-WR-CALDESC:Events for Stand N Stride Foundation
REFRESH-INTERVAL;VALUE=DURATION:PT1H
X-Robots-Tag:noindex
X-PUBLISHED-TTL:PT1H
BEGIN:VTIMEZONE
TZID:UTC
BEGIN:STANDARD
TZOFFSETFROM:+0000
TZOFFSETTO:+0000
TZNAME:UTC
DTSTART:20250101T000000
END:STANDARD
END:VTIMEZONE
BEGIN:VEVENT
DTSTART;TZID=UTC:20260422T100000
DTEND;TZID=UTC:20260422T100000
DTSTAMP:20260422T014241
CREATED:20260108T075115Z
LAST-MODIFIED:20260108T075115Z
UID:20262-1776852000-1776852000@standnstride.org
SUMMARY:Earth Day
DESCRIPTION:Raises global awareness about environmental protection and sustainable practices.
URL:https://standnstride.org/event/earth-day/
CATEGORIES:National Day
ATTACH;FMTTYPE=image/jpeg:https://standnstride.org/wp-content/uploads/2026/01/pexels-photo-6963622-dBSfiH-scaled.jpg
END:VEVENT
END:VCALENDAR