BEGIN:VCALENDAR
VERSION:2.0
PRODID:-//Stand N Stride Foundation - ECPv6.15.11//NONSGML v1.0//EN
CALSCALE:GREGORIAN
METHOD:PUBLISH
X-ORIGINAL-URL:https://standnstride.org
X-WR-CALDESC:Events for Stand N Stride Foundation
REFRESH-INTERVAL;VALUE=DURATION:PT1H
X-Robots-Tag:noindex
X-PUBLISHED-TTL:PT1H
BEGIN:VTIMEZONE
TZID:UTC
BEGIN:STANDARD
TZOFFSETFROM:+0000
TZOFFSETTO:+0000
TZNAME:UTC
DTSTART:20250101T000000
END:STANDARD
END:VTIMEZONE
BEGIN:VEVENT
DTSTART;TZID=UTC:20261124T100000
DTEND;TZID=UTC:20261124T100000
DTSTAMP:20260423T004409
CREATED:20260108T075231Z
LAST-MODIFIED:20260108T075231Z
UID:20292-1795514400-1795514400@standnstride.org
SUMMARY:Shri Guru Nanak Jayanti
DESCRIPTION:Commemorates the birth of Guru Nanak Dev\, the founder of Sikhism.
URL:https://standnstride.org/event/shri-guru-nanak-jayanti/
CATEGORIES:Festival
END:VEVENT
END:VCALENDAR