BEGIN:VCALENDAR
VERSION:2.0
PRODID:-//Stand N Stride Foundation - ECPv6.15.11//NONSGML v1.0//EN
CALSCALE:GREGORIAN
METHOD:PUBLISH
X-WR-CALNAME:Stand N Stride Foundation
X-ORIGINAL-URL:https://standnstride.org
X-WR-CALDESC:Events for Stand N Stride Foundation
REFRESH-INTERVAL;VALUE=DURATION:PT1H
X-Robots-Tag:noindex
X-PUBLISHED-TTL:PT1H
BEGIN:VTIMEZONE
TZID:UTC
BEGIN:STANDARD
TZOFFSETFROM:+0000
TZOFFSETTO:+0000
TZNAME:UTC
DTSTART:20240101T000000
END:STANDARD
END:VTIMEZONE
BEGIN:VEVENT
DTSTART;TZID=UTC:20260908T100000
DTEND;TZID=UTC:20260908T100000
DTSTAMP:20260423T073553
CREATED:20260108T075143Z
LAST-MODIFIED:20260108T075143Z
UID:20279-1788861600-1788861600@standnstride.org
SUMMARY:World Literacy Day
DESCRIPTION:Highlights literacy as a fundamental human right crucial for empowerment.
URL:https://standnstride.org/event/world-literacy-day-2/
CATEGORIES:International Day
END:VEVENT
BEGIN:VEVENT
DTSTART;TZID=UTC:20260905T100000
DTEND;TZID=UTC:20260905T100000
DTSTAMP:20260423T073553
CREATED:20260108T075142Z
LAST-MODIFIED:20260108T075142Z
UID:20277-1788602400-1788602400@standnstride.org
SUMMARY:Teachers Day
DESCRIPTION:Honoring birth anniversary of Dr. Sarvepalli Radhakrishnan and role of educators.
URL:https://standnstride.org/event/teachers-day-2/
CATEGORIES:Special Day
END:VEVENT
BEGIN:VEVENT
DTSTART;TZID=UTC:20260904T100000
DTEND;TZID=UTC:20260904T100000
DTSTAMP:20260423T073553
CREATED:20260108T075142Z
LAST-MODIFIED:20260108T075142Z
UID:20276-1788516000-1788516000@standnstride.org
SUMMARY:Janamashtami
DESCRIPTION:Birth anniversary of Lord Krishna\, celebrated with fasting and hymns.
URL:https://standnstride.org/event/janamashtami/
CATEGORIES:Festival
END:VEVENT
BEGIN:VEVENT
DTSTART;TZID=UTC:20260901T100000
DTEND;TZID=UTC:20260901T100000
DTSTAMP:20260423T073553
CREATED:20260108T075141Z
LAST-MODIFIED:20260108T075141Z
UID:20275-1788256800-1788256800@standnstride.org
SUMMARY:Nutrition Week
DESCRIPTION:Raising awareness about the importance of nutrition to combat malnutrition.
URL:https://standnstride.org/event/nutrition-week-2/
CATEGORIES:Special Day
END:VEVENT
BEGIN:VEVENT
DTSTART;TZID=UTC:20260829T100000
DTEND;TZID=UTC:20260829T100000
DTSTAMP:20260423T073553
CREATED:20260108T075140Z
LAST-MODIFIED:20260108T075140Z
UID:20274-1787997600-1787997600@standnstride.org
SUMMARY:National Sports Day
DESCRIPTION:Commemorates hockey legend Major Dhyan Chand and promotes fitness.
URL:https://standnstride.org/event/national-sports-day-2/
CATEGORIES:Festival
ATTACH;FMTTYPE=image/jpeg:https://standnstride.org/wp-content/uploads/2026/01/pexels-photo-12537022-TegN5b-scaled.jpg
END:VEVENT
BEGIN:VEVENT
DTSTART;TZID=UTC:20260828T100000
DTEND;TZID=UTC:20260828T100000
DTSTAMP:20260423T073553
CREATED:20260108T075134Z
LAST-MODIFIED:20260108T075134Z
UID:20272-1787911200-1787911200@standnstride.org
SUMMARY:RAKSHA BANDHAN
DESCRIPTION:A beautiful celebration of sibling love and protection.
URL:https://standnstride.org/event/raksha-bandhan-3/
CATEGORIES:Festival
END:VEVENT
BEGIN:VEVENT
DTSTART;TZID=UTC:20260815T110000
DTEND;TZID=UTC:20260815T110000
DTSTAMP:20260423T073553
CREATED:20260108T075132Z
LAST-MODIFIED:20260108T075132Z
UID:20271-1786791600-1786791600@standnstride.org
SUMMARY:INDEPENDANCE DAY
DESCRIPTION:A day to cherish freedom\, honor sacrifices\, and recommit to building a stronger nation.
URL:https://standnstride.org/event/independance-day-3/
CATEGORIES:National Day
ATTACH;FMTTYPE=image/jpeg:https://standnstride.org/wp-content/uploads/2026/01/images-G2HraJ.jpg
END:VEVENT
BEGIN:VEVENT
DTSTART;TZID=UTC:20260726T100000
DTEND;TZID=UTC:20260726T100000
DTSTAMP:20260423T073553
CREATED:20260108T075131Z
LAST-MODIFIED:20260108T075131Z
UID:20270-1785060000-1785060000@standnstride.org
SUMMARY:Kargil Veer Diwas
DESCRIPTION:Commemorating India’s victory in the 1999 war and honoring the valor of soldiers.
URL:https://standnstride.org/event/kargil-veer-diwas-2/
CATEGORIES:Festival
END:VEVENT
BEGIN:VEVENT
DTSTART;TZID=UTC:20260621T100000
DTEND;TZID=UTC:20260621T100000
DTSTAMP:20260423T073553
CREATED:20260108T075130Z
LAST-MODIFIED:20260108T075130Z
UID:20269-1782036000-1782036000@standnstride.org
SUMMARY:Yoga Day
DESCRIPTION:Raises global awareness about the physical\, mental\, and spiritual benefits of yoga.
URL:https://standnstride.org/event/yoga-day-2/
CATEGORIES:International Day
END:VEVENT
BEGIN:VEVENT
DTSTART;TZID=UTC:20260605T100000
DTEND;TZID=UTC:20260605T100000
DTSTAMP:20260423T073553
CREATED:20260108T075129Z
LAST-MODIFIED:20260108T075129Z
UID:20268-1780653600-1780653600@standnstride.org
SUMMARY:World Environment Day
DESCRIPTION:The largest global platform for public outreach on environment and climate action.
URL:https://standnstride.org/event/world-environment-day/
CATEGORIES:International Day
END:VEVENT
BEGIN:VEVENT
DTSTART;TZID=UTC:20260508T100000
DTEND;TZID=UTC:20260508T100000
DTSTAMP:20260423T073553
CREATED:20260108T075118Z
LAST-MODIFIED:20260108T075118Z
UID:20266-1778234400-1778234400@standnstride.org
SUMMARY:World Red Cross Day
DESCRIPTION:Honors the birthday of founder Henry Dunant and the humanitarian work of the movement.
URL:https://standnstride.org/event/world-red-cross-day/
CATEGORIES:International Day
END:VEVENT
BEGIN:VEVENT
DTSTART;TZID=UTC:20260508T100000
DTEND;TZID=UTC:20260508T100000
DTSTAMP:20260423T073553
CREATED:20260108T075117Z
LAST-MODIFIED:20260108T075117Z
UID:20265-1778234400-1778234400@standnstride.org
SUMMARY:Rabindra Nath Tagore
DESCRIPTION:Also known as Ponchishe Boishakh\, celebrating the birth of the renowned polymath.
URL:https://standnstride.org/event/rabindra-nath-tagore/
CATEGORIES:Festival
END:VEVENT
BEGIN:VEVENT
DTSTART;TZID=UTC:20260505T100000
DTEND;TZID=UTC:20260505T100000
DTSTAMP:20260423T073553
CREATED:20260108T075116Z
LAST-MODIFIED:20260108T075116Z
UID:20263-1777975200-1777975200@standnstride.org
SUMMARY:World Hand Hygeine Day
DESCRIPTION:Importance of handwashing to prevent infections and improve global health.
URL:https://standnstride.org/event/world-hand-hygeine-day/
CATEGORIES:International Day
END:VEVENT
BEGIN:VEVENT
DTSTART;TZID=UTC:20260422T100000
DTEND;TZID=UTC:20260422T100000
DTSTAMP:20260423T073553
CREATED:20260108T075115Z
LAST-MODIFIED:20260108T075115Z
UID:20262-1776852000-1776852000@standnstride.org
SUMMARY:Earth Day
DESCRIPTION:Raises global awareness about environmental protection and sustainable practices.
URL:https://standnstride.org/event/earth-day/
CATEGORIES:National Day
ATTACH;FMTTYPE=image/jpeg:https://standnstride.org/wp-content/uploads/2026/01/pexels-photo-6963622-dBSfiH-scaled.jpg
END:VEVENT
BEGIN:VEVENT
DTSTART;TZID=UTC:20260407T043000
DTEND;TZID=UTC:20260407T060000
DTSTAMP:20260423T073553
CREATED:20260108T075114Z
LAST-MODIFIED:20260108T075114Z
UID:20261-1775536200-1775541600@standnstride.org
SUMMARY:WORLD HEALTH DAY
DESCRIPTION:Raises global awareness about crucial health issues and promotes action for a healthier world.
URL:https://standnstride.org/event/world-health-day/
CATEGORIES:National Day
END:VEVENT
BEGIN:VEVENT
DTSTART;TZID=UTC:20260326T100000
DTEND;TZID=UTC:20260326T100000
DTSTAMP:20260423T073553
CREATED:20260108T074918Z
LAST-MODIFIED:20260108T074918Z
UID:20258-1774519200-1774519200@standnstride.org
SUMMARY:Ram Navami
DESCRIPTION:Ram Navami celebrates the birth of Lord Rama\, symbolizing the triumph of good over evil.
URL:https://standnstride.org/event/ram-navami/
CATEGORIES:Festival
END:VEVENT
BEGIN:VEVENT
DTSTART;TZID=UTC:20260219T100000
DTEND;TZID=UTC:20260219T100000
DTSTAMP:20260423T073553
CREATED:20260108T074918Z
LAST-MODIFIED:20260108T074918Z
UID:20257-1771495200-1771495200@standnstride.org
SUMMARY:ShivaJi Maharaj Jayanti
DESCRIPTION:Commemorates the birth of Chhatrapati Shivaji Maharaj\, the great Maratha ruler.
URL:https://standnstride.org/event/shivaji-maharaj-jayanti/
CATEGORIES:Festival
END:VEVENT
BEGIN:VEVENT
DTSTART;TZID=UTC:20260215T100000
DTEND;TZID=UTC:20260215T100000
DTSTAMP:20260423T073553
CREATED:20260108T074916Z
LAST-MODIFIED:20260108T074916Z
UID:20256-1771149600-1771149600@standnstride.org
SUMMARY:MahaShivratri
DESCRIPTION:A night of spiritual awakening\, fasting\, and prayers to seek blessings from Lord Shiva.
URL:https://standnstride.org/event/mahashivratri/
CATEGORIES:Festival
END:VEVENT
BEGIN:VEVENT
DTSTART;TZID=UTC:20260126T100000
DTEND;TZID=UTC:20260126T100000
DTSTAMP:20260423T073553
CREATED:20260108T074915Z
LAST-MODIFIED:20260108T074915Z
UID:20255-1769421600-1769421600@standnstride.org
SUMMARY:Republic Day
DESCRIPTION:Republic Day commemorates the adoption of the Indian Constitution in 1950.
URL:https://standnstride.org/event/republic-day/
CATEGORIES:National Day
END:VEVENT
BEGIN:VEVENT
DTSTART;TZID=UTC:20260124T100000
DTEND;TZID=UTC:20260124T100000
DTSTAMP:20260423T073553
CREATED:20260108T074914Z
LAST-MODIFIED:20260108T074914Z
UID:20254-1769248800-1769248800@standnstride.org
SUMMARY:National Girl Child Day
DESCRIPTION:Raising awareness about inequalities girls face and promoting their rights and education.
URL:https://standnstride.org/event/national-girl-child-day/
CATEGORIES:National Day
END:VEVENT
BEGIN:VEVENT
DTSTART;TZID=UTC:20260123T100000
DTEND;TZID=UTC:20260123T100000
DTSTAMP:20260423T073553
CREATED:20260108T074910Z
LAST-MODIFIED:20260108T074910Z
UID:20252-1769162400-1769162400@standnstride.org
SUMMARY:Saraswati Puja
DESCRIPTION:Vasant Panchami celebrates Goddess Saraswati\, the deity of knowledge\, music\, and art.
URL:https://standnstride.org/event/saraswati-puja/
CATEGORIES:Festival
ATTACH;FMTTYPE=image/jpeg:https://standnstride.org/wp-content/uploads/2026/01/pexels-photo-33629890-hDpPUX-scaled.jpg
END:VEVENT
BEGIN:VEVENT
DTSTART;TZID=UTC:20260123T100000
DTEND;TZID=UTC:20260123T100000
DTSTAMP:20260423T073553
CREATED:20260108T074909Z
LAST-MODIFIED:20260108T074909Z
UID:20250-1769162400-1769162400@standnstride.org
SUMMARY:Subhash Chandra Bose Jayanti
DESCRIPTION:Also known as Parakram Diwas\, honoring the courageous Netaji Subhas Chandra Bose.
URL:https://standnstride.org/event/subhash-chandra-bose-jayanti/
CATEGORIES:National Event
END:VEVENT
BEGIN:VEVENT
DTSTART;TZID=UTC:20260113T100000
DTEND;TZID=UTC:20260113T100000
DTSTAMP:20260423T073553
CREATED:20260108T074908Z
LAST-MODIFIED:20260108T074908Z
UID:20249-1768298400-1768298400@standnstride.org
SUMMARY:Lohri
DESCRIPTION:Lohri is a vibrant harvest festival celebrated in North India marking the end of winter.
URL:https://standnstride.org/event/lohri/
CATEGORIES:Festival
ATTACH;FMTTYPE=image/jpeg:https://standnstride.org/wp-content/uploads/2026/01/pexels-photo-4069255-h6tjw2-scaled.jpg
END:VEVENT
BEGIN:VEVENT
DTSTART;TZID=UTC:20260112T100000
DTEND;TZID=UTC:20260112T100000
DTSTAMP:20260423T073553
CREATED:20260108T074907Z
LAST-MODIFIED:20260108T074907Z
UID:20248-1768212000-1768212000@standnstride.org
SUMMARY:VivekAnand Jayanti
DESCRIPTION:Vivekananda Jayanti marks the birth anniversary of Swami Vivekananda\, celebrating self-confidence and service.
URL:https://standnstride.org/event/vivekanand-jayanti/
CATEGORIES:National Youth Day
END:VEVENT
BEGIN:VEVENT
DTSTART;TZID=UTC:20260101T100000
DTEND;TZID=UTC:20260101T100000
DTSTAMP:20260423T073553
CREATED:20260108T074905Z
LAST-MODIFIED:20260108T074905Z
UID:20247-1767261600-1767261600@standnstride.org
SUMMARY:New Year
DESCRIPTION:New Year is a global celebration marking the start of a new calendar year.
URL:https://standnstride.org/event/new-year/
CATEGORIES:World Wide
END:VEVENT
BEGIN:VEVENT
DTSTART;TZID=UTC:20250914T000000
DTEND;TZID=UTC:20250914T000000
DTSTAMP:20260423T073553
CREATED:20250804T153739Z
LAST-MODIFIED:20250804T153739Z
UID:15377-1757808000-1757808000@standnstride.org
SUMMARY:HINDI DIWAS
DESCRIPTION:Hindi Diwas Briefing
URL:https://standnstride.org/event/hindi-diwas/
CATEGORIES:Briefing
END:VEVENT
BEGIN:VEVENT
DTSTART;TZID=UTC:20250908T000000
DTEND;TZID=UTC:20250908T000000
DTSTAMP:20260423T073553
CREATED:20250804T153739Z
LAST-MODIFIED:20250804T153739Z
UID:15376-1757289600-1757289600@standnstride.org
SUMMARY:WORLD LITERACY DAY
DESCRIPTION:World Literacy Day Briefing
URL:https://standnstride.org/event/world-literacy-day/
CATEGORIES:Briefing
END:VEVENT
BEGIN:VEVENT
DTSTART;TZID=UTC:20250905T000000
DTEND;TZID=UTC:20250905T000000
DTSTAMP:20260423T073553
CREATED:20250804T153739Z
LAST-MODIFIED:20250804T153739Z
UID:15375-1757030400-1757030400@standnstride.org
SUMMARY:TEACHERS DAY
DESCRIPTION:Teachers Day Activity
URL:https://standnstride.org/event/teachers-day/
CATEGORIES:Activity
END:VEVENT
BEGIN:VEVENT
DTSTART;TZID=UTC:20250901T000000
DTEND;TZID=UTC:20250907T000000
DTSTAMP:20260423T073553
CREATED:20250804T153739Z
LAST-MODIFIED:20250804T153739Z
UID:15374-1756684800-1757203200@standnstride.org
SUMMARY:NUTRITION WEEK
DESCRIPTION:Nutrition Week central activity at Dwarka center
URL:https://standnstride.org/event/nutrition-week/
CATEGORIES:Health Week
END:VEVENT
BEGIN:VEVENT
DTSTART;TZID=UTC:20250829T000000
DTEND;TZID=UTC:20250829T000000
DTSTAMP:20260423T073553
CREATED:20250804T153739Z
LAST-MODIFIED:20250804T153739Z
UID:15373-1756425600-1756425600@standnstride.org
SUMMARY:NATIONAL SPORTS DAY
DESCRIPTION:National Sports Day Activity
URL:https://standnstride.org/event/national-sports-day/
CATEGORIES:Activity
END:VEVENT
END:VCALENDAR