BEGIN:VCALENDAR
VERSION:2.0
PRODID:-//Stand N Stride Foundation - ECPv6.15.11//NONSGML v1.0//EN
CALSCALE:GREGORIAN
METHOD:PUBLISH
X-ORIGINAL-URL:https://standnstride.org
X-WR-CALDESC:Events for Stand N Stride Foundation
REFRESH-INTERVAL;VALUE=DURATION:PT1H
X-Robots-Tag:noindex
X-PUBLISHED-TTL:PT1H
BEGIN:VTIMEZONE
TZID:UTC
BEGIN:STANDARD
TZOFFSETFROM:+0000
TZOFFSETTO:+0000
TZNAME:UTC
DTSTART:20250101T000000
END:STANDARD
END:VTIMEZONE
BEGIN:VEVENT
DTSTART;TZID=UTC:20260829T100000
DTEND;TZID=UTC:20260829T100000
DTSTAMP:20260421T022028
CREATED:20260108T075140Z
LAST-MODIFIED:20260108T075140Z
UID:20274-1787997600-1787997600@standnstride.org
SUMMARY:National Sports Day
DESCRIPTION:Commemorates hockey legend Major Dhyan Chand and promotes fitness.
URL:https://standnstride.org/event/national-sports-day-2/
CATEGORIES:Festival
ATTACH;FMTTYPE=image/jpeg:https://standnstride.org/wp-content/uploads/2026/01/pexels-photo-12537022-TegN5b-scaled.jpg
END:VEVENT
END:VCALENDAR