BEGIN:VCALENDAR
VERSION:2.0
PRODID:-//Stand N Stride Foundation - ECPv6.15.11//NONSGML v1.0//EN
CALSCALE:GREGORIAN
METHOD:PUBLISH
X-ORIGINAL-URL:https://standnstride.org
X-WR-CALDESC:Events for Stand N Stride Foundation
REFRESH-INTERVAL;VALUE=DURATION:PT1H
X-Robots-Tag:noindex
X-PUBLISHED-TTL:PT1H
BEGIN:VTIMEZONE
TZID:UTC
BEGIN:STANDARD
TZOFFSETFROM:+0000
TZOFFSETTO:+0000
TZNAME:UTC
DTSTART:20250101T000000
END:STANDARD
END:VTIMEZONE
BEGIN:VEVENT
DTSTART;TZID=UTC:20260508T100000
DTEND;TZID=UTC:20260508T100000
DTSTAMP:20260420T184612
CREATED:20260108T075118Z
LAST-MODIFIED:20260108T075118Z
UID:20266-1778234400-1778234400@standnstride.org
SUMMARY:World Red Cross Day
DESCRIPTION:Honors the birthday of founder Henry Dunant and the humanitarian work of the movement.
URL:https://standnstride.org/event/world-red-cross-day/
CATEGORIES:International Day
END:VEVENT
END:VCALENDAR